BEGIN:VCALENDAR
VERSION:2.0
PRODID:-//OneGov//onegov.event//
BEGIN:VEVENT
SUMMARY:Stöck\, Wys\, Stich!
DTSTART:20260121T130000Z
DTEND:20260121T153000Z
DTSTAMP:20260421T102739Z
UID:stoeck-wys-stich-2026-01-21@onegov.event
CATEGORIES:Misc,Meetup
DESCRIPTION:Wir jassen\, was das „Zeug“ hält! Für Kaffee\, Kuchen un
 d einen Schwatz haben wir trotzdem Zeit.\nAnfängerinnen sind mit Anmeldun
 g herzlich willkommen.\nAuskunft: Helen Riccardi\, Tel. 078 841 68 87
GEO:47.1955789944189;8.484660360866135
LAST-MODIFIED:20260421T102739Z
LOCATION:Zentrum Chilematt\, Steinhausen
URL:https://veranstaltungen.steinhausen.ch/event/stoeck-wys-stich-2026-01-
 21
END:VEVENT
BEGIN:VEVENT
SUMMARY:Stöck\, Wys\, Stich!
DTSTART:20260520T120000Z
DTEND:20260520T143000Z
DTSTAMP:20260421T102739Z
UID:stoeck-wys-stich-2026-05-20@onegov.event
CATEGORIES:Misc,Meetup
DESCRIPTION:Wir jassen\, was das „Zeug“ hält! Für Kaffee\, Kuchen un
 d einen Schwatz haben wir trotzdem Zeit.\nAnfängerinnen sind mit Anmeldun
 g herzlich willkommen.\nAuskunft: Helen Riccardi\, Tel. 078 841 68 87
GEO:47.1955789944189;8.484660360866135
LAST-MODIFIED:20260421T102739Z
LOCATION:Zentrum Chilematt\, Steinhausen
URL:https://veranstaltungen.steinhausen.ch/event/stoeck-wys-stich-2026-01-
 21
END:VEVENT
BEGIN:VEVENT
SUMMARY:Stöck\, Wys\, Stich!
DTSTART:20260826T120000Z
DTEND:20260826T143000Z
DTSTAMP:20260421T102739Z
UID:stoeck-wys-stich-2026-08-26@onegov.event
CATEGORIES:Misc,Meetup
DESCRIPTION:Wir jassen\, was das „Zeug“ hält! Für Kaffee\, Kuchen un
 d einen Schwatz haben wir trotzdem Zeit.\nAnfängerinnen sind mit Anmeldun
 g herzlich willkommen.\nAuskunft: Helen Riccardi\, Tel. 078 841 68 87
GEO:47.1955789944189;8.484660360866135
LAST-MODIFIED:20260421T102739Z
LOCATION:Zentrum Chilematt\, Steinhausen
URL:https://veranstaltungen.steinhausen.ch/event/stoeck-wys-stich-2026-01-
 21
END:VEVENT
BEGIN:VEVENT
SUMMARY:Stöck\, Wys\, Stich!
DTSTART:20261118T130000Z
DTEND:20261118T153000Z
DTSTAMP:20260421T102739Z
UID:stoeck-wys-stich-2026-11-18@onegov.event
CATEGORIES:Misc,Meetup
DESCRIPTION:Wir jassen\, was das „Zeug“ hält! Für Kaffee\, Kuchen un
 d einen Schwatz haben wir trotzdem Zeit.\nAnfängerinnen sind mit Anmeldun
 g herzlich willkommen.\nAuskunft: Helen Riccardi\, Tel. 078 841 68 87
GEO:47.1955789944189;8.484660360866135
LAST-MODIFIED:20260421T102739Z
LOCATION:Zentrum Chilematt\, Steinhausen
URL:https://veranstaltungen.steinhausen.ch/event/stoeck-wys-stich-2026-01-
 21
END:VEVENT
END:VCALENDAR
