BEGIN:VCALENDAR
VERSION:2.0
PRODID:-//OneGov//onegov.event//
BEGIN:VEVENT
SUMMARY:Abstimmungen
DTSTART:20260614T073000Z
DTEND:20260614T083000Z
DTSTAMP:20260225T102201Z
UID:abstimmungen-5-2026-06-14@onegov.event
CATEGORIES:Politics
DESCRIPTION:Die Gemeinde Steinhausen führt die eidgenössischen\, kantona
 len und kommunalen Abstimmungen durch.
LAST-MODIFIED:20260225T102201Z
LOCATION:Rathaus Steinhausen\, Bahnhofstrasse 3\, 6312 Steinhausen
URL:https://veranstaltungen.steinhausen.ch/event/abstimmungen-5-2026-06-14
END:VEVENT
END:VCALENDAR
