BEGIN:VCALENDAR
VERSION:2.0
PRODID:-//OneGov//onegov.event//
BEGIN:VEVENT
SUMMARY:Abstimmungen
DTSTART:20260927T073000Z
DTEND:20260927T083000Z
DTSTAMP:20260225T102213Z
UID:abstimmungen-6-2026-09-27@onegov.event
CATEGORIES:Politics
DESCRIPTION:Die Gemeinde Steinhausen führt die eidgenössischen\, kantona
 len und kommunalen Abstimmungen durch.
LAST-MODIFIED:20260225T102213Z
LOCATION:Rathaus Steinhausen\, Bahnhofstrasse 3\, 6312 Steinhausen
URL:https://veranstaltungen.steinhausen.ch/event/abstimmungen-6-2026-09-27
END:VEVENT
END:VCALENDAR
