BEGIN:VCALENDAR
VERSION:2.0
PRODID:-//OneGov//onegov.event//
BEGIN:VEVENT
SUMMARY:Abstimmungen
DTSTART:20261129T083000Z
DTEND:20261129T093000Z
DTSTAMP:20260225T102224Z
UID:abstimmungen-7-2026-11-29@onegov.event
CATEGORIES:Politics
DESCRIPTION:Die Gemeinde Steinhausen führt die eidgenössischen\, kantona
 len und kommunalen Abstimmungen durch.
LAST-MODIFIED:20260225T102224Z
LOCATION:Rathaus Steinhausen\, Bahnhofstrasse 3\, 6312 Steinhausen
URL:https://veranstaltungen.steinhausen.ch/event/abstimmungen-7-2026-11-29
END:VEVENT
END:VCALENDAR
