BEGIN:VCALENDAR
VERSION:2.0
PRODID:-//OneGov//onegov.event//
BEGIN:VEVENT
SUMMARY:Babysitterkurs / Kinderhütekurs
DTSTART:20260919T070000Z
DTEND:20260919T133000Z
DTSTAMP:20260106T070358Z
UID:babysitterkurs-kinderhuetekurs-2-2026-09-19@onegov.event
CATEGORIES:Misc,Education
DESCRIPTION:Der Kurs richtet sich an Jugendliche ab 13 Jahren\, welche Kin
 der mögen\nund sie hüten möchten. Der Kurs wird vom Schweizerischen Rot
 en Kreuz\ndurchgeführt und schult die Jugendlichen zu den Themen: Bedürf
 nisse und\nEntwicklungsstufen von Babys und Kleinkindern\, Notfälle\, Unf
 allverhütung\,\nErnährung\, Körperpflege\, Wickeln\, Schlaf\, Spielen e
 tc. Nach absolviertem\nKurs erhalten die Jugendlichen die Kursbestätigung
  SRK und können in die\nVermittlungskartei aufgenommen werden.\n \n\nAnme
 ldung bis 11.9.2026 unter www.cje-steinhausen.ch \n
GEO:47.1957084295022;8.484389302332437
LAST-MODIFIED:20260106T070358Z
LOCATION:Zentrum Chilematt\, Steinhausen
URL:https://veranstaltungen.steinhausen.ch/event/babysitterkurs-kinderhuet
 ekurs-2-2026-09-19
END:VEVENT
END:VCALENDAR
