BEGIN:VCALENDAR
VERSION:2.0
PRODID:-//OneGov//onegov.event//
BEGIN:VEVENT
SUMMARY:Bibliomüsli
DTSTART:20230201T083000Z
DTEND:20230201T090000Z
DTSTAMP:20230109T122557Z
UID:bibliomuesli-7-2023-02-01@onegov.event
CATEGORIES:Library
DESCRIPTION:Mit Geschichten\, Versen und Spielen weckt Claudia Meier bei d
 en Kleinen die Freude an Büchern und fördert die sprachliche Entwicklung
  Ihres Kindes im Alter von 1-3 Jahren.\n\nDie Anzahl Plätze ist begrenzt.
  Bitte melden Sie sich in der Bibliothek an: bibliothek@steinhausen.ch ode
 r 041 748 11 77
LAST-MODIFIED:20230109T122557Z
LOCATION:Bibliothek\, Bahnhofstrasse 5\, 6312 Steinhausen
URL:https://veranstaltungen.steinhausen.ch/event/bibliomuesli-7-2023-02-01
END:VEVENT
END:VCALENDAR
