BEGIN:VCALENDAR
VERSION:2.0
PRODID:-//OneGov//onegov.event//
BEGIN:VEVENT
SUMMARY:Bibliozwerge
DTSTART:20260429T120000Z
DTEND:20260429T123000Z
DTSTAMP:20251010T084022Z
UID:bibliozwerge-10-2026-04-29@onegov.event
CATEGORIES:Library
DESCRIPTION:Die Bibliozwerge finden jeden letzten Mittwoch im Monat statt 
 (ausser Ferien).\n\nDie Zwerge begrüssen gerne Kinder im Alter zwischen 3
 -8 Jahren\, die gerne eine Geschichte hören untermalt mit Liedern und Spi
 elen.\n\nDie Anzahl Plätze ist begrenzt. Bitte melden Sie sich in der Bib
 liothek an: bibliothek@steinhausen.ch oder 041 748 11 77\n
GEO:47.196312;8.483432
LAST-MODIFIED:20251010T084022Z
LOCATION:Bibliothek\, Bahnofstrasse 5\, 6312 Steinhausen
URL:https://veranstaltungen.steinhausen.ch/event/bibliozwerge-10-2026-04-2
 9
END:VEVENT
END:VCALENDAR
