BEGIN:VCALENDAR
VERSION:2.0
PRODID:-//OneGov//onegov.event//
BEGIN:VEVENT
SUMMARY:Chilbi 2022
DTSTART:20221021T150000Z
DTEND:20221021T233000Z
DTSTAMP:20220120T074658Z
UID:chilbi-2022-2022-10-21@onegov.event
CATEGORIES:Misc,Party,Meetup,Tradition,Gastronomy
DESCRIPTION:Darf es etwas feines zum Essen und/oder Trinken sein!? Ob wür
 zig oder pfiffig – wir freuen uns auf zahlreich Besucher an unserem übl
 ichen Standort.
GEO:47.19629583492346;8.485307693481447
LAST-MODIFIED:20220120T074658Z
LOCATION:Zugerstrasse\, Steinhausen
URL:https://veranstaltungen.steinhausen.ch/event/chilbi-2022-2022-10-21
END:VEVENT
END:VCALENDAR
