BEGIN:VCALENDAR
VERSION:2.0
PRODID:-//OneGov//onegov.event//
BEGIN:VEVENT
SUMMARY:DEUTSCH-KONVERSATIONSKLUB
DTSTART:20211203T083000Z
DTEND:20211203T093000Z
DTSTAMP:20211104T070022Z
UID:deutsch-konversationsklub-2021-12-03@onegov.event
CATEGORIES:Misc,Library,Education
DESCRIPTION:Möchten Sie sich gerne in lockerer Atmosphäre auf Deutsch un
 terhalten? Wir sprechen über verschiedene interessante Themen. Geeignet f
 ür Personen\, die über mittlere Deutschkenntnisse verfügen.\nDie Teilna
 hme ist jederzeit möglich\, der Eintritt ist frei. Wir freuen uns auf Ihr
  Kommen\, es benötigt keine Anmeldung.\n\nFragen beantworten Ihnen Frau M
 orales und Frau Pacheco gerne unter hablaespanol.info@gmail.com.\n\nHinwei
 s: Zurzeit gilt Zertifikatspflicht in der Bibliothek.\n\n
LAST-MODIFIED:20211104T070022Z
LOCATION:Bibliothek\, Bahnhofstrasse 5\, 6312 Steinhausen
URL:https://veranstaltungen.steinhausen.ch/event/deutsch-konversationsklub
 -2021-12-03
END:VEVENT
END:VCALENDAR
