BEGIN:VCALENDAR
VERSION:2.0
PRODID:-//OneGov//onegov.event//
BEGIN:VEVENT
SUMMARY:Ensemblekonzert
DTSTART:20260617T170000Z
DTEND:20260617T180000Z
DTSTAMP:20260402T121842Z
UID:ensemblekonzert-2026-06-17@onegov.event
CATEGORIES:Music,Concert,Music School
DESCRIPTION:Die Schülerinnen und Schüler bringen ihr Erlerntes zum Erkli
 ngen.
GEO:47.19633231297537;8.483451673446623
LAST-MODIFIED:20260402T121842Z
LOCATION:Gemeindesaal Steinhausen
URL:https://veranstaltungen.steinhausen.ch/event/ensemblekonzert-2026-06-1
 7
END:VEVENT
END:VCALENDAR
