BEGIN:VCALENDAR
VERSION:2.0
PRODID:-//OneGov//onegov.event//
BEGIN:VEVENT
SUMMARY:Gemeindeversammlung vom 10. Dezember 2026
DTSTART:20261210T183000Z
DTEND:20261210T213000Z
DTSTAMP:20260225T104254Z
UID:gemeindeversammlung-vom-10-dezember-2026-2026-12-10@onegov.event
CATEGORIES:Politics,Tradition
DESCRIPTION:Der Gemeinderat freut sich\, Sie am Donnerstag\, 10. Dezember 
 2026\, 19.30 Uhr\, zur Winter-Gemeindeversammlung zu begrüssen. Alle Info
 rmationen finden Sie auf der Website www.steinhausen.ch ==> Gemeindeversam
 mlung.
LAST-MODIFIED:20260225T104254Z
LOCATION:Gemeindesaal\, Bahnhofstrasse 5\, Steinhausen
URL:https://veranstaltungen.steinhausen.ch/event/gemeindeversammlung-vom-1
 0-dezember-2026-2026-12-10
END:VEVENT
END:VCALENDAR
