BEGIN:VCALENDAR
VERSION:2.0
PRODID:-//OneGov//onegov.event//
BEGIN:VEVENT
SUMMARY:Jubilarenzmittag Jahrgang 1946
DTSTART:20260520T090000Z
DTEND:20260520T120000Z
DTSTAMP:20260224T121017Z
UID:jubilarenzmittag-jahrgang-1946-2026-05-20@onegov.event
CATEGORIES:Misc,Meetup,Elderly
DESCRIPTION:Alle Jubilaren\, welche in diesem Jahr ihren 80. Geburtstag fe
 iern\, sind herzlich zu einem Mittagessen eingeladen. Die persönliche Ein
 ladung folgt im März 2026. Wir freuen uns.
LAST-MODIFIED:20260224T121017Z
LOCATION:Restaurant Linde-Schüür\, Steinhausen
URL:https://veranstaltungen.steinhausen.ch/event/jubilarenzmittag-jahrgang
 -1946-2026-05-20
END:VEVENT
END:VCALENDAR
