BEGIN:VCALENDAR
VERSION:2.0
PRODID:-//OneGov//onegov.event//
BEGIN:VEVENT
SUMMARY:Jungschützenkurs Armbrustschiessen 
DTSTART:20220518T153000Z
DTEND:20220518T173000Z
DTSTAMP:20220303T160123Z
UID:jungschuetzenkurs-armbrustschiessen-2022-05-18@onegov.event
CATEGORIES:Youth,Sports,Education,Tradition
DESCRIPTION:Die Armbrustschützengesellschaft Steinhausen führt einen Jun
 gschützenkurs für Jugendliche von 10 bis 20 Jahren durch. Dieser Kurs wi
 rd nach den Richtlinien von J&SA geführt. Während den Sommerferien finde
 t kein Kurs statt. \nWir freuen uns über jeden Besuch. 
LAST-MODIFIED:20220303T160123Z
LOCATION:Schützenhaus Tann
URL:https://veranstaltungen.steinhausen.ch/event/jungschuetzenkurs-armbrus
 tschiessen-2022-05-18
END:VEVENT
END:VCALENDAR
