BEGIN:VCALENDAR
VERSION:2.0
PRODID:-//OneGov//onegov.event//
BEGIN:VEVENT
SUMMARY:Kantonaler Atemschutz-Wettkampf
DTSTART:20260912T110000Z
DTEND:20260912T150000Z
DTSTAMP:20260108T153623Z
UID:kantonaler-atemschutz-wettkampf-2026-09-12@onegov.event
CATEGORIES:Meetup
DESCRIPTION:Jedes Jahr messen sich mehrere Trupps der Zuger Feuerwehren in
  einem Atemschutz-Wettkampf. Erlebe die Fähigkeiten dieser Spezialisten a
 nhand spielerischer und trickreicher Aufgaben. Gleichzeitig ist das Feuerw
 ehrdepot offen für die Bevölkerung und Besucher werden kulinarisch verso
 rgt.
GEO:47.19729481104577;8.488097287650229
LAST-MODIFIED:20260108T153623Z
LOCATION:Schulareal Sunnegrund\, 6312 Steinhausen
URL:https://veranstaltungen.steinhausen.ch/event/kantonaler-atemschutz-wet
 tkampf-2026-09-12
END:VEVENT
END:VCALENDAR
