BEGIN:VCALENDAR
VERSION:2.0
PRODID:-//OneGov//onegov.event//
BEGIN:VEVENT
SUMMARY:Kasperlitheater
DTSTART:20261125T133000Z
DTEND:20261125T143000Z
DTSTAMP:20260106T070332Z
UID:kasperlitheater-2026-11-25@onegov.event
CATEGORIES:Misc,Meetup,Theater
DESCRIPTION:Tri\, tra\, trallalla\, de Kasperli isch wieder da!\nEin lusti
 ges Abenteuer voller Lachen\, Staunen und Überraschungen – komm\nvorbei
  und lass dich in eine spannende Geschichte entführen. \n\nAnmeldung bis 
 11.11.2026 unter www.cje-steinhausen.ch
GEO:47.19572420867823;8.484387161715913
LAST-MODIFIED:20260106T070332Z
LOCATION:Zentrum Chilematt\, Steinhausen
URL:https://veranstaltungen.steinhausen.ch/event/kasperlitheater-2026-11-2
 5
END:VEVENT
END:VCALENDAR
