BEGIN:VCALENDAR
VERSION:2.0
PRODID:-//OneGov//onegov.event//
BEGIN:VEVENT
SUMMARY:Konzert der Celloklasse von Julie Stier
DTSTART:20260608T160000Z
DTEND:20260608T170000Z
DTSTAMP:20260402T121850Z
UID:konzert-der-celloklasse-von-julie-stier-2026-06-08@onegov.event
CATEGORIES:Music,Concert,Music School
DESCRIPTION:Die Schülerinnen und Schüler bringen ihr Erlerntes zum Erkli
 ngen.
GEO:47.1973602124377;8.487383685090505
LAST-MODIFIED:20260402T121850Z
LOCATION:Aula Sunnegrund 1
URL:https://veranstaltungen.steinhausen.ch/event/konzert-der-celloklasse-v
 on-julie-stier-2026-06-08
END:VEVENT
END:VCALENDAR
