BEGIN:VCALENDAR
VERSION:2.0
PRODID:-//OneGov//onegov.event//
BEGIN:VEVENT
SUMMARY:Konzert der Gitarrenklasse von Lucas Correia Lima
DTSTART:20260622T163000Z
DTEND:20260622T173000Z
DTSTAMP:20260402T121804Z
UID:konzert-der-gitarrenklasse-von-lucas-correia-lima-1-2026-06-22@onegov.
 event
CATEGORIES:Music,Concert,Music School
DESCRIPTION:Die Schülerinnen und Schüler bringen ihr Erlerntes zum Erkli
 ngen.
GEO:47.1973966348839;8.487372956004965
LAST-MODIFIED:20260402T121804Z
LOCATION:Aula Sunnegrund 1
URL:https://veranstaltungen.steinhausen.ch/event/konzert-der-gitarrenklass
 e-von-lucas-correia-lima-1-2026-06-22
END:VEVENT
END:VCALENDAR
