BEGIN:VCALENDAR
VERSION:2.0
PRODID:-//OneGov//onegov.event//
BEGIN:VEVENT
SUMMARY:Konzert der Musikerfahrung von Christine Widmer
DTSTART:20260624T163000Z
DTEND:20260624T173000Z
DTSTAMP:20260402T121744Z
UID:konzert-der-musikerfahrung-von-christine-widmer-2026-06-24@onegov.even
 t
CATEGORIES:Music,Concert,Music School
DESCRIPTION:Die Schülerinnen und Schüler bringen ihr Erlerntes zum Erkli
 ngen.
GEO:47.19734928569899;8.487389049633235
LAST-MODIFIED:20260402T121744Z
LOCATION:Aula Sunnegrund 1
URL:https://veranstaltungen.steinhausen.ch/event/konzert-der-musikerfahrun
 g-von-christine-widmer-2026-06-24
END:VEVENT
END:VCALENDAR
