BEGIN:VCALENDAR
VERSION:2.0
PRODID:-//OneGov//onegov.event//
BEGIN:VEVENT
SUMMARY:Konzert Kinder- und Jugendchor
DTSTART:20260618T163000Z
DTEND:20260618T173000Z
DTSTAMP:20260402T132200Z
UID:konzert-kinder-und-jugendchor-2026-06-18@onegov.event
CATEGORIES:Music,Concert,Music School
DESCRIPTION:Die Schülerinnen und Schüler bringen ihr Erlerntes zum Erkli
 ngen.
GEO:47.19117498663366;8.491460685826238
LAST-MODIFIED:20260402T132200Z
LOCATION:Aula Feldheim 3
URL:https://veranstaltungen.steinhausen.ch/event/konzert-kinder-und-jugend
 chor-2026-06-18
END:VEVENT
END:VCALENDAR
