BEGIN:VCALENDAR
VERSION:2.0
PRODID:-//OneGov//onegov.event//
BEGIN:VEVENT
SUMMARY:Konzert offene Bühne
DTSTART:20260619T160000Z
DTEND:20260619T170000Z
DTSTAMP:20260402T121815Z
UID:konzert-offene-buehne-2026-06-19@onegov.event
CATEGORIES:Music,Concert,Music School
DESCRIPTION:Die Schülerinnen und Schüler bringen ihr Erlerntes zum Erkli
 ngen.
GEO:47.1973602124377;8.487356862376656
LAST-MODIFIED:20260402T121815Z
LOCATION:Aula Sunnegrund 1
URL:https://veranstaltungen.steinhausen.ch/event/konzert-offene-buehne-202
 6-06-19
END:VEVENT
END:VCALENDAR
