BEGIN:VCALENDAR
VERSION:2.0
PRODID:-//OneGov//onegov.event//
BEGIN:VEVENT
SUMMARY:Lernbande Hausaufgabenhilfe
DTSTART:20260701T113000Z
DTEND:20260701T130000Z
DTSTAMP:20260331T135440Z
UID:lernbande-hausaufgabenhilfe-1-2026-07-01@onegov.event
CATEGORIES:Education
DESCRIPTION:Die LernBande ist ein kostenloses Angebot für Primarschüler 
 in Steinhausen und Umgebung. Wir bieten einen Ort\, an dem Hausaufgaben ni
 cht nur erledigt\, sondern mit Freude angegangen werden in einem offenen u
 nd herzlichen Umgebung\, in der jedes Kind willkommen ist. Während der Sc
 hulferien findet kein Angebot statt.
LAST-MODIFIED:20260331T135440Z
LOCATION:Beim Bahnhof 5\, Steinhausen
URL:https://veranstaltungen.steinhausen.ch/event/lernbande-hausaufgabenhil
 fe-1-2026-07-01
END:VEVENT
END:VCALENDAR
