BEGIN:VCALENDAR
VERSION:2.0
PRODID:-//OneGov//onegov.event//
BEGIN:VEVENT
SUMMARY:Pensioniertenausflug
DTSTART:20260825T060000Z
DTEND:20260825T150000Z
DTSTAMP:20260225T133837Z
UID:pensioniertenausflug-1-2026-08-25@onegov.event
CATEGORIES:Meetup
DESCRIPTION:Auf persönliche Einladung des Gemeinderates
LAST-MODIFIED:20260225T133837Z
LOCATION:Überraschung
URL:https://veranstaltungen.steinhausen.ch/event/pensioniertenausflug-1-20
 26-08-25
END:VEVENT
END:VCALENDAR
