BEGIN:VCALENDAR
VERSION:2.0
PRODID:-//OneGov//onegov.event//
BEGIN:VEVENT
SUMMARY:Repair Café
DTSTART:20260530T080000Z
DTEND:20260530T130000Z
DTSTAMP:20260121T130142Z
UID:repair-cafe-2-2026-05-30@onegov.event
CATEGORIES:Misc,Meetup
DESCRIPTION:Das Repair Café ist eine kostenlose\, öffentliche Reparatur-
 Veranstaltung.\nBringen Sie defekte Gegenstände (Haushaltsgeräte\, Unter
 haltungselektronik\, Fahrräder\, Textilien\, Spielzeuge usw.) vorbei – 
 unsere Reparateur:innen reparieren sie kostenlos (Kollekte) zusammen mit i
 hnen.\nOhne Anmeldung vorbeikommen\, Wartezeiten können mit Kaffee und Ku
 chen überbrückt werden.\n\nDas Repair Café in Steinhausen wird mit Unte
 rstützung der Nachbarschaftshilfe Freiwillig mitenand durchgeführt.\n\nI
 nfos und Daten zu weiteren Repair Cafés im Kanton Zug (www.repair-cafe-zu
 g.ch)\n
GEO:47.19630796103731;8.483433700230469
LAST-MODIFIED:20260121T130142Z
LOCATION:Gemeindesaal Dreiklang\, Bahnhofstrasse 5\, 6312 Steinhausen
URL:https://veranstaltungen.steinhausen.ch/event/repair-cafe-2-2026-05-30
END:VEVENT
END:VCALENDAR
