BEGIN:VCALENDAR
VERSION:2.0
PRODID:-//OneGov//onegov.event//
BEGIN:VEVENT
SUMMARY:Sommerbörse
DTSTART:20260603T120000Z
DTEND:20260603T140000Z
DTSTAMP:20260105T163636Z
UID:sommerboerse-2026-06-03@onegov.event
CATEGORIES:Misc,Meetup
DESCRIPTION:Du hast viele Kleider\, Schuhe\, Spielsachen oder Umstandsmode
  zu Hause\,\ndie du nicht mehr brauchst\, dann ist unser Anlass genau das 
 Richtige für\ndich. Sichere dir einen Tisch und verkaufe deine gut erhalt
 enen Second\nHand Artikel direkt vor Ort. Wir freuen uns auf dich. \n\nAnm
 eldung bis 31.5.2026 unter www.cje-steinhausen.ch
GEO:47.19631725265162;8.48348164417852
LAST-MODIFIED:20260105T163636Z
LOCATION:Gemeindesaal\, Steinhausen
URL:https://veranstaltungen.steinhausen.ch/event/sommerboerse-2026-06-03
END:VEVENT
END:VCALENDAR
