BEGIN:VCALENDAR
VERSION:2.0
PRODID:-//OneGov//onegov.event//
BEGIN:VEVENT
SUMMARY:Sterne basteln im Advent
DTSTART:20261209T123000Z
DTEND:20261209T140000Z
DTSTAMP:20260106T070321Z
UID:sterne-basteln-im-advent-2026-12-09@onegov.event
CATEGORIES:Misc
DESCRIPTION:Gemeinsam dekorieren wir Sterne mit Farben\, Glitzer\, Glanz u
 nd Fantasie.\nEs entstehen wundervolle Kunstwerke\, welche das Zuhause wei
 hnachtlich\nerstrahlen lassen. \n\nAnmeldung bis 19.11.2026 unter www.cje-
 steinhausen.ch
GEO:47.195738006539486;8.484419332242675
LAST-MODIFIED:20260106T070321Z
LOCATION:Zentrum Chilematt\, Steinhausen
URL:https://veranstaltungen.steinhausen.ch/event/sterne-basteln-im-advent-
 2026-12-09
END:VEVENT
END:VCALENDAR
