BEGIN:VCALENDAR
VERSION:2.0
PRODID:-//OneGov//onegov.event//
BEGIN:VEVENT
SUMMARY:Stöck\, Wys\, Stich am Abend
DTSTART:20260924T163000Z
DTEND:20260924T193000Z
DTSTAMP:20260108T095955Z
UID:stoeck-wys-stich-am-abend-5-2026-09-24@onegov.event
CATEGORIES:Misc,Meetup
DESCRIPTION:Wir jassen\, was das „Zeug“ hält! Zwischendurch haben wir
  Zeit für einen Schwatz bei einem Glas Wein oder bei Kaffee und Kuchen.\n
 Anfängerinnen sind mit Anmeldung herzlich willkommen.\nAuskunft: Helen Ri
 ccardi\, Tel. 078 841 68 87
GEO:47.19558151599176;8.484667527667687
LAST-MODIFIED:20260108T095955Z
LOCATION:Zentrum Chilematt\, Steinhausen
URL:https://veranstaltungen.steinhausen.ch/event/stoeck-wys-stich-am-abend
 -5-2026-09-24
END:VEVENT
END:VCALENDAR
