BEGIN:VCALENDAR
VERSION:2.0
PRODID:-//OneGov//onegov.event//
BEGIN:VEVENT
SUMMARY:Theater "Mord im Orientexpress"
DTSTART:20250313T190000Z
DTEND:20250313T220000Z
DTSTAMP:20250131T151838Z
UID:theater-mord-im-orientexpress-2025-03-13@onegov.event
CATEGORIES:Culture,Theater
DESCRIPTION:in Zug\, zehn Personen\, ein Mord und kein Entkommen. An Bord 
 des luxuriösen Orient-Expresses wird aus einer entspannenden Reise ein ko
 mplexes Kriminalspiel\, in das Sie unweigerlich hineingezogen werden.\n\n 
 \n\nHercule Poirot\, der weltberühmte belgische Detektiv\, ist auf der dr
 ingenden Rückreise von Istanbul nach London. Dank seiner Beziehungen erwi
 rbt er das letzte Abteil des glanzvollen Orient-Expresses. Er geniesst die
  erlesene Atmosphäre der ersten Klasse\, bis plötzliche Wetterumschwüng
 e die Reise abrupt unterbrechen und der Zug in einer Schneelawine zum Stil
 lstand kommt. Doch diese Naturgewalt ist nicht der einzige unerfreuliche Z
 wischenfall: Ein amerikanischer Passagier wird leblos in seinem Abteil auf
 gefunden – das Opfer eines gnadenlosen Verbrechens\, getötet durch mehr
 ere Messerstiche. Im Orient-Express eingeschneit\, kann niemand den Zug ve
 rlassen\, weshalb die Passagiere mit dem Mörder im Zug gefangen sind. Von
  der Aussenwelt isoliert\, bleibt Hercule Poirot nichts anderes übrig\, a
 ls selbständig Licht in die dunkle Angelegenheit zu bringen und den Täte
 r zu finden\, bevor sich das Unheil wiederholt.\n\nGemeinsam mit Monsieur 
 Bouc\, dem Direktor der renommierten Eisenbahngesellschaft Wagon-Lits\, be
 gibt sich Hercule Poirot auf die Spur der Wahrheit und entdeckt\, dass das
  Verbrechen tiefere Wurzeln hat. Eine Tragödie\, die das Fundament einer 
 Familie erschüttert und das Schicksal vieler in einen Strudel des Elends 
 reisst.\n\n \n\nBesuchen Sie uns in Steinhausen\, steigen Sie ein\, und be
 gleiten Sie Hercule Poirot und Monsieur Bouc bei ihrer Detektivarbeit. Sin
 d Sie in der Lage\, die Puzzlestücke zusammenzufügen und das Rätsel zu 
 lösen?
GEO:47.19692;8.484316
LAST-MODIFIED:20250131T151838Z
LOCATION:Dreiklang Steinhausen
URL:https://veranstaltungen.steinhausen.ch/event/theater-mord-im-orientexp
 ress-2025-03-13
END:VEVENT
END:VCALENDAR
