BEGIN:VCALENDAR
VERSION:2.0
PRODID:-//OneGov//onegov.event//
BEGIN:VEVENT
SUMMARY:Tic Tac Toe
DTSTART:20260616T123000Z
DTEND:20260616T143000Z
DTSTAMP:20260105T163707Z
UID:tic-tac-toe-2026-06-16@onegov.event
CATEGORIES:Misc
DESCRIPTION:Kleine Steine werden bemalt und kreativ verziert. Anschliessen
 d entsteht\ndaraus ein klassisches «Tic Tac Toe» Spiel\, welches überal
 l mitgenommen\nund gespielt werden kann. Danach werden wir noch weitere be
 malte Steine\nim Dorf verteilen. \n\nAnmeldung bis 9.6.2026 unter www.cje-
 steinhausen.ch
GEO:47.19577310136898;8.484357108632611
LAST-MODIFIED:20260105T163707Z
LOCATION:Zentrum Chilematt\, Steinhausen
URL:https://veranstaltungen.steinhausen.ch/event/tic-tac-toe-2026-06-16
END:VEVENT
END:VCALENDAR
