BEGIN:VCALENDAR
VERSION:2.0
PRODID:-//OneGov//onegov.event//
BEGIN:VEVENT
SUMMARY:Waldmorgen
DTSTART:20260924T070000Z
DTEND:20260924T090000Z
DTSTAMP:20260106T070341Z
UID:waldmorgen-2026-09-24@onegov.event
CATEGORIES:Misc
DESCRIPTION:Gemeinsam wollen wir den Wald entdecken\, geniessen und gemüt
 lich beisammen sein. Dazu werden wir noch etwas basteln und tolle Gespräc
 he\nführen. Kommt mit\, wir freuen uns auf einen spannenden Morgen. \n\nA
 nmeldung bis 14.9.2026 unter www.cje-steinhausen.ch
LAST-MODIFIED:20260106T070341Z
LOCATION:Waldhütte\, Steinhausen 
URL:https://veranstaltungen.steinhausen.ch/event/waldmorgen-2026-09-24
END:VEVENT
END:VCALENDAR
