BEGIN:VCALENDAR
VERSION:2.0
PRODID:-//OneGov//onegov.event//
BEGIN:VEVENT
SUMMARY:Welttag des Buches bei Bücher Balmer im Zugerland
DTSTART:20250423T120000Z
DTEND:20250423T140000Z
DTSTAMP:20250310T072726Z
UID:welttag-des-buches-bei-buecher-balmer-im-zugerland-2025-04-23@onegov.e
 vent
CATEGORIES:Literature
DESCRIPTION:Wir feiern den Welttag des Buches!\nFür Kids im Alter von 8 b
 is 11 Jahren findet von 14 bis 16 Uhr ein spannendes Quiz statt. Für jede
 s ausgefüllte Quiz gibt es als Preis den Comicroman "Cool wie Bolle"\, da
 s offizielle Buch vom Welttag des Buches.\n\nAlle jüngeren Kinder bekomme
 n im gleichen Zeitraum ein Pixibüchlein geschenkt.\n\nWeitere Info: Um Re
 servation wird gebeten (Teilnehmerzahl beschränkt).\nTelefonnummer: 041 7
 40 58 77
GEO:47.191861;8.477849
LAST-MODIFIED:20250310T072726Z
LOCATION:Bücher Balmer AG c/o Lüthy + Stocker AG\, Einkaufszentrum Zuger
 land\, Hinterbergstrasse 40\, 6312 Steinhausen
URL:https://veranstaltungen.steinhausen.ch/event/welttag-des-buches-bei-bu
 echer-balmer-im-zugerland-2025-04-23
END:VEVENT
END:VCALENDAR
