BEGIN:VCALENDAR
VERSION:2.0
PRODID:-//OneGov//onegov.event//
BEGIN:VEVENT
SUMMARY:Austauschplattform - Umgang mit Menschen mit Demenz
DTSTART:20260903T170000Z
DTEND:20260903T183000Z
DTSTAMP:20260421T082718Z
UID:austauschplattform-umgang-mit-menschen-mit-demenz-2026-09-03@onegov.ev
 ent
CATEGORIES:Talk,Health,Meetup
DESCRIPTION:Im Weiherpark findet erneut eine Austauschplattform statt.\nIm
  Rahmen des Projekts «Demenzfreundliche Gemeinde» organisiert die Gemein
 de Steinhausen gemeinsam mit dem Seniorenzentrum Weiherpark und Alzheimer 
 Zug auch dieses Jahr mehrere Austauschplattformen.\n\nDas Angebot richtet 
 sich an Angehörige und Interessierte aus der Gemeinde Steinhausen. Sie er
 halten Informationen zum Thema Demenz und können sich mit anderen Betroff
 enen sowie mit Fachpersonen austauschen.\n\nDie nächste Austauschplattfor
 m findet statt am:\n\n3. September 2026\, 19.00–20.30 Uhr\nim Seniorenze
 ntrum Weiherpark\n\nThema des Abends: Umgang mit Menschen mit Demenz\n\nDi
 e Teilnahme ist kostenlos und ohne Anmeldung möglich.\nWir freuen uns auf
  Ihr Kommen.
GEO:47.19494377137956;8.484460112064914
LAST-MODIFIED:20260421T082718Z
LOCATION:Seniorenzentrum Weiherpark
URL:https://veranstaltungen.steinhausen.ch/event-management/austauschplatt
 form-umgang-mit-menschen-mit-demenz
END:VEVENT
BEGIN:VEVENT
SUMMARY:Informationsveranstaltung - Dienstleistende im Kanton Zug zum Them
 a Demenz
DTSTART:20261110T180000Z
DTEND:20261110T200000Z
DTSTAMP:20260421T082730Z
UID:informationsveranstaltung-dienstleistende-im-kanton-zug-zum-thema-deme
 nz-2026-11-10@onegov.event
CATEGORIES:Talk,Health,Meetup,Elderly
DESCRIPTION:Im Rahmen des Projekts «Demenzfreundliche Gemeinde» findet e
 ine weitere Informationsveranstaltung statt. An diesem Abend erhalten Inte
 ressierte einen Überblick über Dienstleistungsangebote im Kanton Zug fü
 r Menschen mit Demenz und ihre Angehörigen.\n\nFachpersonen stellen versc
 hiedene Unterstützungsangebote vor und zeigen auf\, welche Anlaufstellen 
 Betroffene und Angehörige im Alltag entlasten können. Zudem besteht die 
 Möglichkeit\, Fragen zu stellen und sich zu informieren.\n\nDie Veranstal
 tung entsteht in Zusammenarbeit zwischen der Gemeinde Steinhausen\, dem Se
 niorenzentrum Weiherpark\, und Alzheimer Zug.\n\nDatum: Dienstag\, 10. Nov
 ember 2026\nZeit: 19.00–21.00 Uhr\nOrt: Zentrum Chilematt\, Steinhausen\
 n\nDie Teilnahme ist kostenlos und ohne Anmeldung möglich.
GEO:47.1956653589573;8.484481563126161
LAST-MODIFIED:20260421T082730Z
LOCATION:Zentrum Chillematt
URL:https://veranstaltungen.steinhausen.ch/event-management/informationsve
 ranstaltung-dienstleistende-im-kanton-zug-zum-thema-demenz
END:VEVENT
BEGIN:VEVENT
SUMMARY:Informationsveranstaltung - Wissenswertes rund um den Heimeintritt
DTSTART:20260611T170000Z
DTEND:20260611T190000Z
DTSTAMP:20260421T082740Z
UID:informationsveranstaltung-wissenswertes-rund-um-den-heimeintritt-2026-
 06-11@onegov.event
CATEGORIES:Talk,Health,Meetup,Elderly
DESCRIPTION:Im Rahmen des Projekts «Demenzfreundliche Gemeinde» findet e
 ine Informationsveranstaltung zum Thema «Wissenswertes rund um den Heimei
 ntritt» statt.\n\nDer Entscheid für einen Heimeintritt wirft oft viele F
 ragen auf – sowohl für Betroffene als auch für Angehörige. An diesem 
 Informationsabend erhalten Interessierte einen Überblick über wichtige A
 spekte rund um den Heimeintritt. Fachpersonen informieren über Abläufe\,
  Möglichkeiten und beantworten Fragen aus dem Publikum.\n\nDie Veranstalt
 ung organisiert das Seniorenzentrum Weiherpark gemeinsam mit der Gemeinde 
 Steinhausen und Alzheimer Zug.\n\nDatum: Donnerstag\, 11. Juni 2026\nZeit:
  19.00–21.00 Uhr\nOrt: Zentrum Chilematt\, Steinhausen\n\nDie Teilnahme 
 ist kostenlos und ohne Anmeldung möglich.
GEO:47.19566167271109;8.48448156287672
LAST-MODIFIED:20260421T082740Z
LOCATION:Zentrum Chillematt
URL:https://veranstaltungen.steinhausen.ch/event-management/informationsve
 ranstaltung-wissenswertes-rund-um-den-heimeintritt
END:VEVENT
BEGIN:VEVENT
SUMMARY:Spaziergang Senioren
DTSTART:20260121T083000Z
DTEND:20260121T100000Z
DTSTAMP:20260421T082741Z
UID:spaziergang-senioren-4-2026-01-21@onegov.event
RRULE:FREQ=WEEKLY;UNTIL=20261216T100000Z;BYDAY=WE;WKST=MO
CATEGORIES:Health,Meetup,Sports,Elderly
DESCRIPTION:Gemeinsam spazieren!\nDu musst nur langsam genug gehen\, um im
 mer an der Sonne zu bleiben.\n(Antoine de Saint-Exupéry)\n\nSelbst ein kl
 einer Spaziergang mit Gleichgesinnten kann Körper\, Geist und Seele befl
 ügeln. Dieses Angebot richtet sich an Seniorinnen und Senioren\, welche L
 ust auf gemütliche Streifzüge durch die nahe Umgebung haben. Gehhilfen (
 Stöcke\, Rollator) sind kein Hindernis. Die Spaziergänge finden in Klein
 gruppen statt und werden begleitet. Die Länge/Dauer wird individuell den 
 Gehfähigkeiten der Teilnehmenden angepasst.\n\nNach dem Spaziergang geht 
 es zum Kaffee in geselliger Runde.\n\nTreffpunkt: Dorfplatz beim Brunnen\n
 Zeit: Mittwoch 9.30 Uhr\nAnmeldung: keine\nKosten: keine (ausser Getränke
 )\n\n
GEO:47.19618658994847;8.484410737630574
LAST-MODIFIED:20260421T082741Z
LOCATION:Steinhausen Dorfplatz\, beim Brunnen
URL:https://veranstaltungen.steinhausen.ch/event-management/spaziergang-se
 nioren-4
END:VEVENT
BEGIN:VEVENT
SUMMARY:Freiwillig  mitenand\, Nachbarschaftshilfe Steinhausen
DTSTART:20260108T130000Z
DTEND:20260108T150000Z
DTSTAMP:20260421T082730Z
UID:freiwillig-mitenand-nachbarschaftshilfe-steinhausen-8-2026-01-08@onego
 v.event
CATEGORIES:Misc,Health,Library
DESCRIPTION:Ob jung\, im mittleren Alter oder schon älter\, sich gegensei
 tig unterstützen\, Hilfe anbieten\, aber auch Hilfe annehmen\, das ist di
 e Idee von Freiwillig mitenand.\n\nHaben Sie ab und zu Zeit zur Verfügung
 \, um sich freiwillig zu engagieren? Brauchen Sie selber Unterstützung?\n
 \nWir vermitteln zwischen Steinhauserinnen und Steinhauser. Unser Koordina
 tionsteam ist jeden ersten Donnerstag im Monat von 14.00 – 16.00 Uhr in 
 der Bibliothek anwesend.\n
GEO:47.1962555430509;8.483468721823535
LAST-MODIFIED:20260421T082730Z
LOCATION:Bibliothek\, Dreiklang\, Bahnhofstrasse 5\, 6312 Steinhausen
URL:https://veranstaltungen.steinhausen.ch/event-management/freiwillig-mit
 enand-nachbarschaftshilfe-steinhausen-8
END:VEVENT
BEGIN:VEVENT
SUMMARY:Freiwillig  mitenand\, Nachbarschaftshilfe Steinhausen
DTSTART:20260205T130000Z
DTEND:20260205T150000Z
DTSTAMP:20260421T082730Z
UID:freiwillig-mitenand-nachbarschaftshilfe-steinhausen-8-2026-02-05@onego
 v.event
CATEGORIES:Misc,Health,Library
DESCRIPTION:Ob jung\, im mittleren Alter oder schon älter\, sich gegensei
 tig unterstützen\, Hilfe anbieten\, aber auch Hilfe annehmen\, das ist di
 e Idee von Freiwillig mitenand.\n\nHaben Sie ab und zu Zeit zur Verfügung
 \, um sich freiwillig zu engagieren? Brauchen Sie selber Unterstützung?\n
 \nWir vermitteln zwischen Steinhauserinnen und Steinhauser. Unser Koordina
 tionsteam ist jeden ersten Donnerstag im Monat von 14.00 – 16.00 Uhr in 
 der Bibliothek anwesend.\n
GEO:47.1962555430509;8.483468721823535
LAST-MODIFIED:20260421T082730Z
LOCATION:Bibliothek\, Dreiklang\, Bahnhofstrasse 5\, 6312 Steinhausen
URL:https://veranstaltungen.steinhausen.ch/event-management/freiwillig-mit
 enand-nachbarschaftshilfe-steinhausen-8
END:VEVENT
BEGIN:VEVENT
SUMMARY:Freiwillig  mitenand\, Nachbarschaftshilfe Steinhausen
DTSTART:20260305T130000Z
DTEND:20260305T150000Z
DTSTAMP:20260421T082730Z
UID:freiwillig-mitenand-nachbarschaftshilfe-steinhausen-8-2026-03-05@onego
 v.event
CATEGORIES:Misc,Health,Library
DESCRIPTION:Ob jung\, im mittleren Alter oder schon älter\, sich gegensei
 tig unterstützen\, Hilfe anbieten\, aber auch Hilfe annehmen\, das ist di
 e Idee von Freiwillig mitenand.\n\nHaben Sie ab und zu Zeit zur Verfügung
 \, um sich freiwillig zu engagieren? Brauchen Sie selber Unterstützung?\n
 \nWir vermitteln zwischen Steinhauserinnen und Steinhauser. Unser Koordina
 tionsteam ist jeden ersten Donnerstag im Monat von 14.00 – 16.00 Uhr in 
 der Bibliothek anwesend.\n
GEO:47.1962555430509;8.483468721823535
LAST-MODIFIED:20260421T082730Z
LOCATION:Bibliothek\, Dreiklang\, Bahnhofstrasse 5\, 6312 Steinhausen
URL:https://veranstaltungen.steinhausen.ch/event-management/freiwillig-mit
 enand-nachbarschaftshilfe-steinhausen-8
END:VEVENT
BEGIN:VEVENT
SUMMARY:Freiwillig  mitenand\, Nachbarschaftshilfe Steinhausen
DTSTART:20260402T120000Z
DTEND:20260402T140000Z
DTSTAMP:20260421T082730Z
UID:freiwillig-mitenand-nachbarschaftshilfe-steinhausen-8-2026-04-02@onego
 v.event
CATEGORIES:Misc,Health,Library
DESCRIPTION:Ob jung\, im mittleren Alter oder schon älter\, sich gegensei
 tig unterstützen\, Hilfe anbieten\, aber auch Hilfe annehmen\, das ist di
 e Idee von Freiwillig mitenand.\n\nHaben Sie ab und zu Zeit zur Verfügung
 \, um sich freiwillig zu engagieren? Brauchen Sie selber Unterstützung?\n
 \nWir vermitteln zwischen Steinhauserinnen und Steinhauser. Unser Koordina
 tionsteam ist jeden ersten Donnerstag im Monat von 14.00 – 16.00 Uhr in 
 der Bibliothek anwesend.\n
GEO:47.1962555430509;8.483468721823535
LAST-MODIFIED:20260421T082730Z
LOCATION:Bibliothek\, Dreiklang\, Bahnhofstrasse 5\, 6312 Steinhausen
URL:https://veranstaltungen.steinhausen.ch/event-management/freiwillig-mit
 enand-nachbarschaftshilfe-steinhausen-8
END:VEVENT
BEGIN:VEVENT
SUMMARY:Freiwillig  mitenand\, Nachbarschaftshilfe Steinhausen
DTSTART:20260507T120000Z
DTEND:20260507T140000Z
DTSTAMP:20260421T082730Z
UID:freiwillig-mitenand-nachbarschaftshilfe-steinhausen-8-2026-05-07@onego
 v.event
CATEGORIES:Misc,Health,Library
DESCRIPTION:Ob jung\, im mittleren Alter oder schon älter\, sich gegensei
 tig unterstützen\, Hilfe anbieten\, aber auch Hilfe annehmen\, das ist di
 e Idee von Freiwillig mitenand.\n\nHaben Sie ab und zu Zeit zur Verfügung
 \, um sich freiwillig zu engagieren? Brauchen Sie selber Unterstützung?\n
 \nWir vermitteln zwischen Steinhauserinnen und Steinhauser. Unser Koordina
 tionsteam ist jeden ersten Donnerstag im Monat von 14.00 – 16.00 Uhr in 
 der Bibliothek anwesend.\n
GEO:47.1962555430509;8.483468721823535
LAST-MODIFIED:20260421T082730Z
LOCATION:Bibliothek\, Dreiklang\, Bahnhofstrasse 5\, 6312 Steinhausen
URL:https://veranstaltungen.steinhausen.ch/event-management/freiwillig-mit
 enand-nachbarschaftshilfe-steinhausen-8
END:VEVENT
BEGIN:VEVENT
SUMMARY:Freiwillig  mitenand\, Nachbarschaftshilfe Steinhausen
DTSTART:20260702T120000Z
DTEND:20260702T140000Z
DTSTAMP:20260421T082730Z
UID:freiwillig-mitenand-nachbarschaftshilfe-steinhausen-8-2026-07-02@onego
 v.event
CATEGORIES:Misc,Health,Library
DESCRIPTION:Ob jung\, im mittleren Alter oder schon älter\, sich gegensei
 tig unterstützen\, Hilfe anbieten\, aber auch Hilfe annehmen\, das ist di
 e Idee von Freiwillig mitenand.\n\nHaben Sie ab und zu Zeit zur Verfügung
 \, um sich freiwillig zu engagieren? Brauchen Sie selber Unterstützung?\n
 \nWir vermitteln zwischen Steinhauserinnen und Steinhauser. Unser Koordina
 tionsteam ist jeden ersten Donnerstag im Monat von 14.00 – 16.00 Uhr in 
 der Bibliothek anwesend.\n
GEO:47.1962555430509;8.483468721823535
LAST-MODIFIED:20260421T082730Z
LOCATION:Bibliothek\, Dreiklang\, Bahnhofstrasse 5\, 6312 Steinhausen
URL:https://veranstaltungen.steinhausen.ch/event-management/freiwillig-mit
 enand-nachbarschaftshilfe-steinhausen-8
END:VEVENT
BEGIN:VEVENT
SUMMARY:Freiwillig  mitenand\, Nachbarschaftshilfe Steinhausen
DTSTART:20260903T120000Z
DTEND:20260903T140000Z
DTSTAMP:20260421T082730Z
UID:freiwillig-mitenand-nachbarschaftshilfe-steinhausen-8-2026-09-03@onego
 v.event
CATEGORIES:Misc,Health,Library
DESCRIPTION:Ob jung\, im mittleren Alter oder schon älter\, sich gegensei
 tig unterstützen\, Hilfe anbieten\, aber auch Hilfe annehmen\, das ist di
 e Idee von Freiwillig mitenand.\n\nHaben Sie ab und zu Zeit zur Verfügung
 \, um sich freiwillig zu engagieren? Brauchen Sie selber Unterstützung?\n
 \nWir vermitteln zwischen Steinhauserinnen und Steinhauser. Unser Koordina
 tionsteam ist jeden ersten Donnerstag im Monat von 14.00 – 16.00 Uhr in 
 der Bibliothek anwesend.\n
GEO:47.1962555430509;8.483468721823535
LAST-MODIFIED:20260421T082730Z
LOCATION:Bibliothek\, Dreiklang\, Bahnhofstrasse 5\, 6312 Steinhausen
URL:https://veranstaltungen.steinhausen.ch/event-management/freiwillig-mit
 enand-nachbarschaftshilfe-steinhausen-8
END:VEVENT
BEGIN:VEVENT
SUMMARY:Freiwillig  mitenand\, Nachbarschaftshilfe Steinhausen
DTSTART:20261001T120000Z
DTEND:20261001T140000Z
DTSTAMP:20260421T082730Z
UID:freiwillig-mitenand-nachbarschaftshilfe-steinhausen-8-2026-10-01@onego
 v.event
CATEGORIES:Misc,Health,Library
DESCRIPTION:Ob jung\, im mittleren Alter oder schon älter\, sich gegensei
 tig unterstützen\, Hilfe anbieten\, aber auch Hilfe annehmen\, das ist di
 e Idee von Freiwillig mitenand.\n\nHaben Sie ab und zu Zeit zur Verfügung
 \, um sich freiwillig zu engagieren? Brauchen Sie selber Unterstützung?\n
 \nWir vermitteln zwischen Steinhauserinnen und Steinhauser. Unser Koordina
 tionsteam ist jeden ersten Donnerstag im Monat von 14.00 – 16.00 Uhr in 
 der Bibliothek anwesend.\n
GEO:47.1962555430509;8.483468721823535
LAST-MODIFIED:20260421T082730Z
LOCATION:Bibliothek\, Dreiklang\, Bahnhofstrasse 5\, 6312 Steinhausen
URL:https://veranstaltungen.steinhausen.ch/event-management/freiwillig-mit
 enand-nachbarschaftshilfe-steinhausen-8
END:VEVENT
BEGIN:VEVENT
SUMMARY:Freiwillig  mitenand\, Nachbarschaftshilfe Steinhausen
DTSTART:20261105T130000Z
DTEND:20261105T150000Z
DTSTAMP:20260421T082730Z
UID:freiwillig-mitenand-nachbarschaftshilfe-steinhausen-8-2026-11-05@onego
 v.event
CATEGORIES:Misc,Health,Library
DESCRIPTION:Ob jung\, im mittleren Alter oder schon älter\, sich gegensei
 tig unterstützen\, Hilfe anbieten\, aber auch Hilfe annehmen\, das ist di
 e Idee von Freiwillig mitenand.\n\nHaben Sie ab und zu Zeit zur Verfügung
 \, um sich freiwillig zu engagieren? Brauchen Sie selber Unterstützung?\n
 \nWir vermitteln zwischen Steinhauserinnen und Steinhauser. Unser Koordina
 tionsteam ist jeden ersten Donnerstag im Monat von 14.00 – 16.00 Uhr in 
 der Bibliothek anwesend.\n
GEO:47.1962555430509;8.483468721823535
LAST-MODIFIED:20260421T082730Z
LOCATION:Bibliothek\, Dreiklang\, Bahnhofstrasse 5\, 6312 Steinhausen
URL:https://veranstaltungen.steinhausen.ch/event-management/freiwillig-mit
 enand-nachbarschaftshilfe-steinhausen-8
END:VEVENT
BEGIN:VEVENT
SUMMARY:Freiwillig  mitenand\, Nachbarschaftshilfe Steinhausen
DTSTART:20261203T130000Z
DTEND:20261203T150000Z
DTSTAMP:20260421T082730Z
UID:freiwillig-mitenand-nachbarschaftshilfe-steinhausen-8-2026-12-03@onego
 v.event
CATEGORIES:Misc,Health,Library
DESCRIPTION:Ob jung\, im mittleren Alter oder schon älter\, sich gegensei
 tig unterstützen\, Hilfe anbieten\, aber auch Hilfe annehmen\, das ist di
 e Idee von Freiwillig mitenand.\n\nHaben Sie ab und zu Zeit zur Verfügung
 \, um sich freiwillig zu engagieren? Brauchen Sie selber Unterstützung?\n
 \nWir vermitteln zwischen Steinhauserinnen und Steinhauser. Unser Koordina
 tionsteam ist jeden ersten Donnerstag im Monat von 14.00 – 16.00 Uhr in 
 der Bibliothek anwesend.\n
GEO:47.1962555430509;8.483468721823535
LAST-MODIFIED:20260421T082730Z
LOCATION:Bibliothek\, Dreiklang\, Bahnhofstrasse 5\, 6312 Steinhausen
URL:https://veranstaltungen.steinhausen.ch/event-management/freiwillig-mit
 enand-nachbarschaftshilfe-steinhausen-8
END:VEVENT
BEGIN:VEVENT
SUMMARY:Medienanlass 2026
DTSTART:20260601T160000Z
DTEND:20260601T180000Z
DTSTAMP:20260421T082732Z
UID:medienanlass-2026-2026-06-01@onegov.event
CATEGORIES:Talk,Youth,Health,Education
DESCRIPTION:Kinder wachsen heute in einer Welt auf\, in der das Internet g
 anz selbstverständlich zum Alltag gehört. Die digitale Welt bietet viele
  Chancen\, bringt jedoch auch Risiken mit sich. Deshalb ist es wichtig\, K
 inder bewusst zu begleiten\, zu stärken und zu schützen. Dazu gehören d
 ie Förderung der mentalen Gesundheit\, die Entwicklung der eigenen Persö
 nlichkeit und ein respektvoller Umgang miteinander – sowohl online als a
 uch im echten Leben.\n\nFür viele Eltern ist das im Alltag eine Herausfor
 derung. Vielleicht fragen auch Sie sich:\n•	Wie bleibe ich mit meinem Ki
 nd über digitale Themen im Gespräch?\n•	Wie kann ich mein Kind in der 
 digitalen Welt gut begleiten?\n•	Welche Chancen und Risiken bringt die d
 igitale Welt mit sich?\n•	Wie kann ich mein Kind stärken und schützen?
 \n•	Wo finde ich Unterstützung und hilfreiche Informationen?\n\nIm erst
 en Teil des Abends geben die Kinder der 4. Klassen zunächst selbst einen 
 Einblick in ihre digitale Welt. Sie zeigen\, was sie wissen\, was sie erle
 ben und wie sie die digitale Welt sehen. Das ist besonders wertvoll\, denn
  so entsteht gegenseitiges Verständnis. Der Austausch zwischen Kindern un
 d Erwachsenen hilft\, die unterschiedlichen Lebenswelten besser zu versteh
 en und gemeinsam gute Lösungen zu finden.\n\nIm zweiten Teil des Elternan
 lasses geben die Expertinnen und Experten von Netpathie weitere Informatio
 nen und praktische Tipps für den Alltag. Danach gibt es Zeit für Fragen 
 und einen offenen Austausch.\n\nDer Medienanlass ist offen für alle Elter
 n und Erziehungsberechtigten von Schülerinnen und Schülern der Schule St
 einhausen. Die Beiträge der Kinder aus den 4. Klassen bilden den Einstieg
  in den Abend.\n
LAST-MODIFIED:20260421T082732Z
LOCATION:Gemeindesaal Steinhausen
URL:https://veranstaltungen.steinhausen.ch/event-management/medienanlass-2
 026
END:VEVENT
END:VCALENDAR
