BEGIN:VCALENDAR
VERSION:2.0
PRODID:-//OneGov//onegov.event//
BEGIN:VEVENT
SUMMARY:Kath. Kirchgemeindeversammlung
DTSTART:20260601T180000Z
DTEND:20260601T190000Z
DTSTAMP:20260421T082707Z
UID:kath-kirchgemeindeversammlung-6-2026-06-01@onegov.event
CATEGORIES:Misc,Meetup,Religion
DESCRIPTION:
LAST-MODIFIED:20260421T082707Z
LOCATION:Zentrum Chilematt
URL:https://veranstaltungen.steinhausen.ch/event-management/kath-kirchgeme
 indeversammlung-6
END:VEVENT
BEGIN:VEVENT
SUMMARY:Kath. Kirchgemeindeversammlung
DTSTART:20261130T190000Z
DTEND:20261130T200000Z
DTSTAMP:20260421T082707Z
UID:kath-kirchgemeindeversammlung-6-2026-11-30@onegov.event
CATEGORIES:Misc,Meetup,Religion
DESCRIPTION:
LAST-MODIFIED:20260421T082707Z
LOCATION:Zentrum Chilematt
URL:https://veranstaltungen.steinhausen.ch/event-management/kath-kirchgeme
 indeversammlung-6
END:VEVENT
BEGIN:VEVENT
SUMMARY:Ökumenische Adventsfeier
DTSTART:20261215T183000Z
DTEND:20261215T200000Z
DTSTAMP:20260421T082719Z
UID:okumenische-adventsfeier-4-2026-12-15@onegov.event
CATEGORIES:Misc,Meetup,Religion
DESCRIPTION:Gönnen Sie sich in der betriebsamen Adventszeit eine Pause un
 d lassen Sie sich mit besinnlichen Worten und Musik auf das kommende Weihn
 achtsfest einstimmen.\nAnschliessend an die Feier sitzen wir bei Kaffee/Te
 e und feinem Lebkuchen beisammen. Wir freuen uns auf Sie!
GEO:47.19557954296833;8.484617469373099
LAST-MODIFIED:20260421T082719Z
LOCATION:Zentrum Chilematt\, Steinhausen
URL:https://veranstaltungen.steinhausen.ch/event-management/okumenische-ad
 ventsfeier-4
END:VEVENT
END:VCALENDAR
