BEGIN:VCALENDAR
VERSION:2.0
PRODID:-//OneGov//onegov.event//
BEGIN:VEVENT
SUMMARY:Spaziergang Senioren
DTSTART:20260121T083000Z
DTEND:20260121T100000Z
DTSTAMP:20260421T112742Z
UID:spaziergang-senioren-4-2026-01-21@onegov.event
RRULE:FREQ=WEEKLY;UNTIL=20261216T100000Z;BYDAY=WE;WKST=MO
CATEGORIES:Health,Meetup,Sports,Elderly
DESCRIPTION:Gemeinsam spazieren!\nDu musst nur langsam genug gehen\, um im
 mer an der Sonne zu bleiben.\n(Antoine de Saint-Exupéry)\n\nSelbst ein kl
 einer Spaziergang mit Gleichgesinnten kann Körper\, Geist und Seele befl
 ügeln. Dieses Angebot richtet sich an Seniorinnen und Senioren\, welche L
 ust auf gemütliche Streifzüge durch die nahe Umgebung haben. Gehhilfen (
 Stöcke\, Rollator) sind kein Hindernis. Die Spaziergänge finden in Klein
 gruppen statt und werden begleitet. Die Länge/Dauer wird individuell den 
 Gehfähigkeiten der Teilnehmenden angepasst.\n\nNach dem Spaziergang geht 
 es zum Kaffee in geselliger Runde.\n\nTreffpunkt: Dorfplatz beim Brunnen\n
 Zeit: Mittwoch 9.30 Uhr\nAnmeldung: keine\nKosten: keine (ausser Getränke
 )\n\n
GEO:47.19618658994847;8.484410737630574
LAST-MODIFIED:20260421T112742Z
LOCATION:Steinhausen Dorfplatz\, beim Brunnen
URL:https://veranstaltungen.steinhausen.ch/event-management/spaziergang-se
 nioren-4
END:VEVENT
BEGIN:VEVENT
SUMMARY:54. Grümpelturnier in Steinhausen
DTSTART:20260529T160000Z
DTEND:20260529T215900Z
DTSTAMP:20260421T112747Z
UID:54-gruempelturnier-in-steinhausen-2026-05-29@onegov.event
CATEGORIES:Party,Youth,Sports,Gastronomy
DESCRIPTION:Markiert euch den 29. - 30. Mai 2026 fett im Kalender\, denn d
 a ist was los bei uns im Eschfeld.\n\nUnser 54. Grümpelturnier findet sta
 tt.\n\n- Gewerbe-Cup\n- Gugge-Cup\n- Plausch-Cup\n- Sie & Er\n- Schüler/S
 chülerinnen\n\nAn diesem Wochenende wird natürlich auch für gutes Essen
  & leckere Drinks gesorgt 🙂\n\nViele tolle Überraschungen für Gross u
 nd Klein.\n\nDie Ziehung der traditionellen Tombola mit attraktiven Preise
 n darf auch dieses Jahr nicht fehlen.\n\nWir freuen uns auf Euch!
GEO:47.19752;8.492884
LAST-MODIFIED:20260421T112747Z
LOCATION:Sportclub Steinhausen\, Eschfeldstrasse 21\, 6312 Steinhausen
URL:https://veranstaltungen.steinhausen.ch/event-management/54-gruempeltur
 nier-in-steinhausen
END:VEVENT
BEGIN:VEVENT
SUMMARY:2. Schnuppertraining für fussballbegeisterte Kinder
DTSTART:20260509T090000Z
DTEND:20260509T100000Z
DTSTAMP:20260421T112746Z
UID:2-schnuppertraining-fuer-fussballbegeisterte-kinder-3-2026-05-09@onego
 v.event
CATEGORIES:Youth,Sports
DESCRIPTION:Der Sportclub Steinhausen organisiert auch dieses Jahr Schnupp
 ertrainings für alle Kinder der Jahrgänge 2019/2020/2021.\n\nKinder ab d
 em Jahrgang 2018 und älter melden sich bitte vorgängig beim unten aufgef
 ührten Team Koordinator.\n\nMöchte Ihr Kind das Fussballspielen erlernen
 ? Jetzt bietet sich die Möglichkeit!\n\nDie diesjährigen Schnuppertraini
 ngs finden an folgenden Tagen statt:\n\nWann: Samstag\, 02. / 09. und 16. 
 Mai 2026\nZeit: 11.00 – 12.00 Uhr (11.15 Uhr ist die Elterninfo)\nWo: Sp
 ortplatz Eschfeld hinter dem Schulhaus Sunnegrund\n\nAusrüstung:\n– Mit
  Wasser gefüllte Trinkflasche\n– Turn- oder Nockenschuhe\n– Trainings
 kleider: Bei schönem Wetter\, kurze Hosen und T-Shirt\, bei schlechtem We
 tter je nachdem Trainerhose und/oder Regenjacke\n\nBringen Sie Ihr fussbal
 lbegeistertes Kind zur genannten Zeit an den oben genannten Platz.\n\nGut 
 zu wissen:\n– Eine Anmeldung ist nicht nötig\n– Die Anwesenheit minde
 stens einer erwachsenen Begleitperson ist erwünscht\n– Das Kind sollte 
 mindestens an 2-3 Schnuppertrainings teilnehmen\n\nDer SC Steinhausen freu
 t sich auf viele Kinder.\n\nFür vorgängige Fragen wenden Sie sich bitte 
 an den Team-Koordinator G-E des SC Steinhausen:\n\nErich Steiner\nE-Mail: 
 teams.efg@sportclubsteinhausen.ch\nTelefon: 079 308 74 34\n\nSportclub Ste
 inhausen\nJunioren-Abteilung
GEO:47.198460691353084;8.488826723768657
LAST-MODIFIED:20260421T112746Z
LOCATION:Sportplatz Eschfeld hinter dem Schulhaus Sunnegrund
URL:https://veranstaltungen.steinhausen.ch/event-management/2-schnuppertra
 ining-fuer-fussballbegeisterte-kinder-3
END:VEVENT
BEGIN:VEVENT
SUMMARY:Chilbi Steinhausen 2026
DTSTART:20261025T110000Z
DTEND:20261025T170000Z
DTSTAMP:20260421T112727Z
UID:chilbi-steinhausen-2029-2026-10-25@onegov.event
CATEGORIES:Party,Sports,Gastronomy
DESCRIPTION:Chilbi – Programm beim Sportclub Steinhausen\n\nRestaurant u
 nd Food-Stände mit Getränken aller Art!\n\nFreitag\, 23. Oktober 2026 vo
 n 17:30 – 24:00 Uhr\nSamstag\, 24. Oktober 2026 von 12:00 – 24:00 Uhr\
 nSonntag\, 25. Oktober 2026 von 12:00 – 18:00 Uhr\n\nUnsere Spezialität
 en:\n- div. Würste\, Steaks vom Grill mit Pommes Frites/Brot und feinen S
 aucen\n- «Ghacktes» (Rindsfleich) mit Hörnli\, Apfelmus uns Käse\n- Ho
 tDog\, Wienerli mit Brot\, Kalbs- und Schweinsbratwurst\, Cervelat\,\nPomm
 es Frites\, Chicken-Nuggets und vieles mehr…\n\nDie Food-Stände und geh
 eizte Hütte des Sportclub Steinhausens befinden sich zwischen Kreisel und
  Kirche an der Zugerstrasse. Der Chilbi-Treffpunkt zum Verpflegen und Verw
 eilen!\n\nAuf Ihren Besuch freut sich der Sportclub Steinhausen!
GEO:47.196426779988144;8.485254040943994
LAST-MODIFIED:20260421T112727Z
LOCATION:Zugerstrasse\, 6312 Steinhausen
URL:https://veranstaltungen.steinhausen.ch/event-management/chilbi-steinha
 usen-2029
END:VEVENT
BEGIN:VEVENT
SUMMARY:3. Schnuppertraining für fussballbegeisterte Kinder
DTSTART:20260516T090000Z
DTEND:20260516T100000Z
DTSTAMP:20260421T112731Z
UID:3-schnuppertraining-fuer-fussballbegeisterte-kinder-3-2026-05-16@onego
 v.event
CATEGORIES:Youth,Sports
DESCRIPTION:Der Sportclub Steinhausen organisiert auch dieses Jahr Schnupp
 ertrainings für alle Kinder der Jahrgänge 2019/2020/2021.\n\nKinder ab d
 em Jahrgang 2018 und älter melden sich bitte vorgängig beim unten aufgef
 ührten Team Koordinator.\n\nMöchte Ihr Kind das Fussballspielen erlernen
 ? Jetzt bietet sich die Möglichkeit!\n\nDie diesjährigen Schnuppertraini
 ngs finden an folgenden Tagen statt:\n\nWann: Samstag\, 02. / 09. und 16. 
 Mai 2026\nZeit: 11.00 – 12.00 Uhr (11.15 Uhr ist die Elterninfo)\nWo: Sp
 ortplatz Eschfeld hinter dem Schulhaus Sunnegrund\n\nAusrüstung:\n– Mit
  Wasser gefüllte Trinkflasche\n– Turn- oder Nockenschuhe\n– Trainings
 kleider: Bei schönem Wetter\, kurze Hosen und T-Shirt\, bei schlechtem We
 tter je nachdem Trainerhose und/oder Regenjacke\n\nBringen Sie Ihr fussbal
 lbegeistertes Kind zur genannten Zeit an den oben genannten Platz.\n\nGut 
 zu wissen:\n– Eine Anmeldung ist nicht nötig\n– Die Anwesenheit minde
 stens einer erwachsenen Begleitperson ist erwünscht\n– Das Kind sollte 
 mindestens an 2-3 Schnuppertrainings teilnehmen\n\nDer SC Steinhausen freu
 t sich auf viele Kinder.\n\nFür vorgängige Fragen wenden Sie sich bitte 
 an den Team-Koordinator G-E des SC Steinhausen:\n\nErich Steiner\nE-Mail: 
 teams.efg@sportclubsteinhausen.ch\nTelefon: 079 308 74 34\n\nSportclub Ste
 inhausen\nJunioren-Abteilung
GEO:47.198518242001235;8.488740924513035
LAST-MODIFIED:20260421T112731Z
LOCATION: Sportplatz Eschfeld hinter dem Schulhaus Sunnegrund
URL:https://veranstaltungen.steinhausen.ch/event-management/3-schnuppertra
 ining-fuer-fussballbegeisterte-kinder-3
END:VEVENT
BEGIN:VEVENT
SUMMARY:Chilbi Steinhausen 2026
DTSTART:20261023T153000Z
DTEND:20261023T215900Z
DTSTAMP:20260421T112740Z
UID:chilbi-steinhausen-2028-2026-10-23@onegov.event
CATEGORIES:Party,Sports,Gastronomy
DESCRIPTION:Chilbi – Programm beim Sportclub Steinhausen\n\nRestaurant u
 nd Food-Stände mit Getränken aller Art!\n\nFreitag\, 23. Oktober 2026 vo
 n 17:30 – 24:00 Uhr\nSamstag\, 24. Oktober 2026 von 12:00 – 24:00 Uhr\
 nSonntag\, 25. Oktober 2026 von 12:00 – 18:00 Uhr\n\nUnsere Spezialität
 en:\n- div. Würste\, Steaks vom Grill mit Pommes Frites/Brot und feinen S
 aucen\n- «Ghacktes» (Rindsfleich) mit Hörnli\, Apfelmus uns Käse\n- Ho
 tDog\, Wienerli mit Brot\, Kalbs- und Schweinsbratwurst\, Cervelat\,\nPomm
 es Frites\, Chicken-Nuggets und vieles mehr…\n\nDie Food-Stände und geh
 eizte Hütte des Sportclub Steinhausens befinden sich zwischen Kreisel und
  Kirche an der Zugerstrasse. Der Chilbi-Treffpunkt zum Verpflegen und Verw
 eilen!\n\nAuf Ihren Besuch freut sich der Sportclub Steinhausen!
GEO:47.1964272407623;8.485275498241933
LAST-MODIFIED:20260421T112740Z
LOCATION:Zugerstrasse\, 6312 Steinhausen
URL:https://veranstaltungen.steinhausen.ch/event-management/chilbi-steinha
 usen-2028
END:VEVENT
BEGIN:VEVENT
SUMMARY:32. Internationales Zugerland-Turnier
DTSTART:20260523T060000Z
DTEND:20260523T150000Z
DTSTAMP:20260421T112746Z
UID:32-internationales-zugerland-turnier-2026-05-23@onegov.event
CATEGORIES:Youth,Sports,Gastronomy
DESCRIPTION:Dieses Jahr feiern wir stolze 32 Jahre Zugerland-Turnier\n\nM
 öchtet ihr als Team am 23. Mai 2026 an diesem tollen Event dabei sein?\n\
 nDie Teilnahmeplätze sind beschränkt. Wir freuen uns auf Euch!\n\nWeiter
 e Informationen und die Aufschaltung des Anmeldeportals findet Ihr bald au
 f der Homepage des Sportclubs Steinhausen: www.sportclubsteinhausen.ch(Ext
 ernal Link).
GEO:47.19843074217296;8.488740856657953
LAST-MODIFIED:20260421T112746Z
LOCATION:Eschfeldstr. 21\, 6312 Steinhausen
URL:https://veranstaltungen.steinhausen.ch/event-management/32-internation
 ales-zugerland-turnier
END:VEVENT
BEGIN:VEVENT
SUMMARY:54. Grümpelturnier in Steinhausen
DTSTART:20260530T070000Z
DTEND:20260530T215900Z
DTSTAMP:20260421T112743Z
UID:54-gruempelturnier-in-steinhausen-3-2026-05-30@onegov.event
CATEGORIES:Party,Youth,Sports,Gastronomy
DESCRIPTION:Markiert euch den 29. - 30. Mai 2026 fett im Kalender\, denn d
 a ist was los bei uns im Eschfeld.\n\nUnser 54. Grümpelturnier findet sta
 tt.\n\n\n- Gewerbe-Cup\n- Gugge-Cup\n- Plausch-Cup\n- Sie & Er\n- Schüler
 /Schülerinnen\n\nAn diesem Wochenende wird natürlich auch für gutes Ess
 en & leckere Drinks gesorgt 🙂\n\nViele tolle Überraschungen für Gross
  und Klein.\n\nDie Ziehung der traditionellen Tombola mit attraktiven Prei
 sen darf auch dieses Jahr nicht fehlen.\n\nWir freuen uns auf Euch!
GEO:47.19752;8.492884
LAST-MODIFIED:20260421T112743Z
LOCATION:Sportclub Steinhausen\, Eschfeldstrasse 21\, 6312 Steinhausen
URL:https://veranstaltungen.steinhausen.ch/event-management/54-gruempeltur
 nier-in-steinhausen-3
END:VEVENT
BEGIN:VEVENT
SUMMARY:Sportclub Steinhausen mit Stand am Weihnachtsmarkt Steinhausen
DTSTART:20261204T140000Z
DTEND:20261204T190000Z
DTSTAMP:20260421T112741Z
UID:sportclub-steinhausen-mit-stand-am-weihnachtsmarkt-steinhausen-2026-12
 -04@onegov.event
CATEGORIES:Market,Sports,Gastronomy
DESCRIPTION:Wir freuen uns\, dich am Weihnachtsmarkt Steinhausen an unsere
 m Stand zu begrüssen!\n\nAm Freitag\, 4. Dezember 2026 findet der alljäh
 rliche Weihnachtsmarkt in Steinhausen statt. Besuch uns an unserem Stand a
 b 15:00 Uhr auf dem Dorfplatz.\n\nUnser Angebot:\n- Heisser Mojito (hausge
 macht)\n- Hot Dog\n- Raclette-Schnitten\n- Div. Tee & Kaffee\n\nWir freuen
  uns auf dich!\nSportclub Steinhausen
GEO:47.19633227183475;8.484395745160509
LAST-MODIFIED:20260421T112741Z
LOCATION:Dorfplatz 6312 Steinahusen
URL:https://veranstaltungen.steinhausen.ch/event-management/sportclub-stei
 nhausen-mit-stand-am-weihnachtsmarkt-steinhausen
END:VEVENT
BEGIN:VEVENT
SUMMARY:Chilbi Steinhausen 2026
DTSTART:20261024T100000Z
DTEND:20261024T215900Z
DTSTAMP:20260421T112733Z
UID:chilbi-steinhausen-2030-2026-10-24@onegov.event
CATEGORIES:Party,Sports,Gastronomy
DESCRIPTION:Chilbi – Programm beim Sportclub Steinhausen\n\nRestaurant u
 nd Food-Stände mit Getränken aller Art!\n\nFreitag\, 23. Oktober 2026 vo
 n 17:30 – 24:00 Uhr\nSamstag\, 24. Oktober 2026 von 12:00 – 24:00 Uhr\
 nSonntag\, 25. Oktober 2026 von 12:00 – 18:00 Uhr\n\nUnsere Spezialität
 en:\n\n- div. Würste\, Steaks vom Grill mit Pommes Frites/Brot und feinen
  Saucen\n- «Ghacktes» (Rindsfleich) mit Hörnli\, Apfelmus uns Käse\n- 
 HotDog\, Wienerli mit Brot\, Kalbs- und Schweinsbratwurst\, Cervelat\,\nPo
 mmes Frites\, Chicken-Nuggets und vieles mehr…\n\nDie Food-Stände und g
 eheizte Hütte des Sportclub Steinhausens befinden sich zwischen Kreisel u
 nd Kirche an der Zugerstrasse. Der Chilbi-Treffpunkt zum Verpflegen und Ve
 rweilen!\n\nAuf Ihren Besuch freut sich der Sportclub Steinhausen!
GEO:47.19637966855318;8.485264781006073
LAST-MODIFIED:20260421T112733Z
LOCATION:Zugerstrasse\, 6312 Steinhausen
URL:https://veranstaltungen.steinhausen.ch/event-management/chilbi-steinha
 usen-2030
END:VEVENT
BEGIN:VEVENT
SUMMARY:1. Schnuppertraining für fussballbegeisterte Kinder
DTSTART:20260502T090000Z
DTEND:20260502T100000Z
DTSTAMP:20260421T112746Z
UID:1-schnuppertraining-fuer-fussballbegeisterte-kinder-3-2026-05-02@onego
 v.event
CATEGORIES:Youth,Sports
DESCRIPTION:Der Sportclub Steinhausen organisiert auch dieses Jahr Schnupp
 ertrainings für alle Kinder der Jahrgänge 2019/2020/2021.\n\nKinder ab d
 em Jahrgang 2018 und älter melden sich bitte vorgängig beim unten aufgef
 ührten Team Koordinator.\n\nMöchte Ihr Kind das Fussballspielen erlernen
 ? Jetzt bietet sich die Möglichkeit!\n\nDie diesjährigen Schnuppertraini
 ngs finden an folgenden Tagen statt:\n\nWann: Samstag\, 02. / 09. und 16. 
 Mai 2026\nZeit: 11.00 – 12.00 Uhr (11.15 Uhr ist die Elterninfo)\nWo: Sp
 ortplatz Eschfeld hinter dem Schulhaus Sunnegrund\n\nAusrüstung:\n– Mit
  Wasser gefüllte Trinkflasche\n– Turn- oder Nockenschuhe\n– Trainings
 kleider: Bei schönem Wetter\, kurze Hosen und T-Shirt\, bei schlechtem We
 tter je nachdem Trainerhose und/oder Regenjacke\n\nBringen Sie Ihr fussbal
 lbegeistertes Kind zur genannten Zeit an den oben genannten Platz.\n\nGut 
 zu wissen:\n– Eine Anmeldung ist nicht nötig\n– Die Anwesenheit minde
 stens einer erwachsenen Begleitperson ist erwünscht\n– Das Kind sollte 
 mindestens an 2-3 Schnuppertrainings teilnehmen\n\nDer SC Steinhausen freu
 t sich auf viele Kinder.\n\nFür vorgängige Fragen wenden Sie sich bitte 
 an den Team-Koordinator G-E des SC Steinhausen:\n\nErich Steiner\nE-Mail: 
 teams.efg@sportclubsteinhausen.ch\nTelefon: 079 308 74 34\n\nSportclub Ste
 inhausen\nJunioren-Abteilung
GEO:47.198576911564565;8.488547812947976
LAST-MODIFIED:20260421T112746Z
LOCATION: Sportplatz Eschfeld hinter dem Schulhaus Sunnegrund
URL:https://veranstaltungen.steinhausen.ch/event-management/1-schnuppertra
 ining-fuer-fussballbegeisterte-kinder-3
END:VEVENT
BEGIN:VEVENT
SUMMARY:POLYSPORT-CAMP ROTKREUZ 20. - 24.4.26
DTSTART:20260420T073000Z
DTEND:20260420T140000Z
DTSTAMP:20260421T112742Z
UID:polysport-camp-rotkreuz-20-24-4-26-2026-04-20@onegov.event
RRULE:FREQ=WEEKLY;UNTIL=20260424T140000Z;BYDAY=MO,TU,WE,TH,FR;WKST=MO
CATEGORIES:Youth,Sports
DESCRIPTION:Spass\, Spiele und sportliche Vielfalt – alles in einem Camp
 ! Dieses coole Fun & Action Camp bietet deinem Kind ein kunterbuntes Sport
 programm. Ob Sportskanone oder nicht\, ist egal. Dein Kind entdeckt neue S
 portarten\, hat gemeinsam sehr viel Spass und schliesst neue Freundschafte
 n. Das Camp wird von einem erfahrenen Team geleitet und ein ausgewogenes M
 ittagessen stärkt für das nächste Abenteuer. Je nach Standort und Jahre
 ssaison stehen unterschiedliche Aktivitäten auf dem Programm.\n\nDie regu
 lären Camp-Zeiten sind von 9.30 bis 16.00 Uhr. Eine Ganztagsbetreuung von
  8.00 bis 17.30 Uhr ist möglich.\n\nJahrgang: 2013 – 2020\nGeschlecht: 
 beide\nNiveau: Alle\n
GEO:47.140218;8.432688
LAST-MODIFIED:20260421T112742Z
LOCATION:Sporthalle Waldegg\, Waldeggstrasse 11\, 6343 Rotkreuz
URL:https://veranstaltungen.steinhausen.ch/event-management/polysport-camp
 -rotkreuz-20-24-4-26
END:VEVENT
END:VCALENDAR
